BEGIN:VCALENDAR
VERSION:2.0
PRODID:-//Naturavila Golf - ECPv6.15.13//NONSGML v1.0//EN
CALSCALE:GREGORIAN
METHOD:PUBLISH
X-WR-CALNAME:Naturavila Golf
X-ORIGINAL-URL:https://naturavilagolf.es
X-WR-CALDESC:Eventos para Naturavila Golf
REFRESH-INTERVAL;VALUE=DURATION:PT1H
X-Robots-Tag:noindex
X-PUBLISHED-TTL:PT1H
BEGIN:VTIMEZONE
TZID:Europe/Paris
BEGIN:DAYLIGHT
TZOFFSETFROM:+0100
TZOFFSETTO:+0200
TZNAME:CEST
DTSTART:20180325T010000
END:DAYLIGHT
BEGIN:STANDARD
TZOFFSETFROM:+0200
TZOFFSETTO:+0100
TZNAME:CET
DTSTART:20181028T010000
END:STANDARD
BEGIN:DAYLIGHT
TZOFFSETFROM:+0100
TZOFFSETTO:+0200
TZNAME:CEST
DTSTART:20190331T010000
END:DAYLIGHT
BEGIN:STANDARD
TZOFFSETFROM:+0200
TZOFFSETTO:+0100
TZNAME:CET
DTSTART:20191027T010000
END:STANDARD
BEGIN:DAYLIGHT
TZOFFSETFROM:+0100
TZOFFSETTO:+0200
TZNAME:CEST
DTSTART:20200329T010000
END:DAYLIGHT
BEGIN:STANDARD
TZOFFSETFROM:+0200
TZOFFSETTO:+0100
TZNAME:CET
DTSTART:20201025T010000
END:STANDARD
END:VTIMEZONE
BEGIN:VEVENT
DTSTART;VALUE=DATE:20190623
DTEND;VALUE=DATE:20190624
DTSTAMP:20260425T233449
CREATED:20190419T122835Z
LAST-MODIFIED:20190419T153517Z
UID:894-1561248000-1561334399@naturavilagolf.es
SUMMARY:Campeonato Interclubes de CyL
DESCRIPTION:Consultar disponibilidad horaria fuera del Campeonato. \nLa información sobre el Campeonato en:     https://www.fgolfcyl.org/
URL:https://naturavilagolf.es/torneo/campeonato-interclubes-de-cyl-2/
LOCATION:Naturavila Golf\, Avila\, España
CATEGORIES:resultados
ATTACH;FMTTYPE=image/jpeg:https://naturavilagolf.es/wp-content/uploads/2019/04/fedecyl_1432135611.jpg
END:VEVENT
END:VCALENDAR